BEGIN:VCALENDAR
VERSION:2.0
PRODID:-//Frettenham Parish Council//Meeting Calendar//EN
CALSCALE:GREGORIAN
METHOD:PUBLISH
BEGIN:VEVENT
UID:70633-20250214@frettenham-pc.gov.uk
DTSTAMP:20260420T081052Z
DTSTART;VALUE=DATE:20250214
DTEND;VALUE=DATE:20250215
SUMMARY:Council Meeting &#8211\\; 14 February 2025
DESCRIPTION:Full Council Meeting\nView details: https://frettenham-pc.gov.uk/meetings/council-meeting-14-february-2025/
URL:https://frettenham-pc.gov.uk/meetings/council-meeting-14-february-2025/
END:VEVENT
END:VCALENDAR
